BEGIN:VCALENDAR
VERSION:2.0
PRODID:-//Department Of Education//dd88a879-1db9-4060-9e6a-440d6c9389fe
BEGIN:VTIMEZONE
TZID:Australia/Sydney
TZURL:http://tzurl.org/zoneinfo-outlook/Australia/Sydney
X-LIC-LOCATION:Australia/Sydney
BEGIN:STANDARD
TZOFFSETFROM:+1100
TZOFFSETTO:+1000
TZNAME:AEST
DTSTART:19700405T030000
RRULE:FREQ=YEARLY;BYMONTH=4;BYDAY=1SU
END:STANDARD
BEGIN:DAYLIGHT
TZOFFSETFROM:+1000
TZOFFSETTO:+1100
TZNAME:AEDT
DTSTART:19701004T020000
RRULE:FREQ=YEARLY;BYMONTH=10;BYDAY=1SU
END:DAYLIGHT
END:VTIMEZONE
CALSCALE:GREGORIAN
X-WR-TIMEZONE:Australia/Sydney
BEGIN:VEVENT
DTSTART;TZID=Australia/Sydney:20200304T135024
DTEND;TZID=Australia/Sydney:20200304T145000
DTSTAMP:20200304T000000Z
UID:70758193-fc9f-4622-b7e6-be972b31ac9f
LOCATION:The Meadows Public School
SUMMARY;LANGUAGE=en-us:Sport in Schools Australia (SISA)
RRULE:FREQ=WEEKLY;INTERVAL=1;UNTIL=20200409;
SEQUENCE:0
DESCRIPTION:Sport in Schools Australia (SISA)
END:VEVENT
TRANSP:TRANSPARENT
END:VCALENDAR
